BEGIN:VCALENDAR
VERSION:2.0
PRODID:-//Fontbonne University - ECPv5.16.4//NONSGML v1.0//EN
CALSCALE:GREGORIAN
METHOD:PUBLISH
X-WR-CALNAME:Fontbonne University
X-ORIGINAL-URL:https://www.fontbonne.edu
X-WR-CALDESC:Events for Fontbonne University
BEGIN:VTIMEZONE
TZID:America/Chicago
BEGIN:DAYLIGHT
TZOFFSETFROM:-0600
TZOFFSETTO:-0500
TZNAME:CDT
DTSTART:20220313T080000
END:DAYLIGHT
BEGIN:STANDARD
TZOFFSETFROM:-0500
TZOFFSETTO:-0600
TZNAME:CST
DTSTART:20221106T070000
END:STANDARD
END:VTIMEZONE
BEGIN:VEVENT
DTSTART;TZID=America/Chicago:20220421T180000
DTEND;TZID=America/Chicago:20220421T200000
DTSTAMP:20260422T175212
CREATED:20220121T005136Z
LAST-MODIFIED:20220422T002024Z
UID:61981-1650564000-1650571200@www.fontbonne.edu
SUMMARY:Adoration
DESCRIPTION:
URL:https://www.fontbonne.edu/event/adoration-3/
CATEGORIES:Campus Ministry,Events & Activities,Featured Events
END:VEVENT
END:VCALENDAR