BEGIN:VCALENDAR
VERSION:2.0
PRODID:-//Fontbonne University - ECPv5.16.4//NONSGML v1.0//EN
CALSCALE:GREGORIAN
METHOD:PUBLISH
X-WR-CALNAME:Fontbonne University
X-ORIGINAL-URL:https://www.fontbonne.edu
X-WR-CALDESC:Events for Fontbonne University
BEGIN:VTIMEZONE
TZID:America/Chicago
BEGIN:DAYLIGHT
TZOFFSETFROM:-0600
TZOFFSETTO:-0500
TZNAME:CDT
DTSTART:20220313T080000
END:DAYLIGHT
BEGIN:STANDARD
TZOFFSETFROM:-0500
TZOFFSETTO:-0600
TZNAME:CST
DTSTART:20221106T070000
END:STANDARD
END:VTIMEZONE
BEGIN:VEVENT
DTSTART;TZID=America/Chicago:20220908T120000
DTEND;TZID=America/Chicago:20220908T133000
DTSTAMP:20260422T081306
CREATED:20220825T213513Z
LAST-MODIFIED:20220908T182009Z
UID:78998-1662638400-1662643800@www.fontbonne.edu
SUMMARY:R&B and Soul Food in September
DESCRIPTION:Traditional soul food will be served in Ryan dining hall along side a soulful playlist of R&B hits.
URL:https://www.fontbonne.edu/event/rb-and-soul-food-in-september/
LOCATION:Ryan Dining Hall
END:VEVENT
BEGIN:VEVENT
DTSTART;TZID=America/Chicago:20220908T193000
DTEND;TZID=America/Chicago:20220908T200000
DTSTAMP:20260422T081306
CREATED:20220826T013511Z
LAST-MODIFIED:20220909T003517Z
UID:79028-1662665400-1662667200@www.fontbonne.edu
SUMMARY:Ministry Movie Night: Dead Man Walking
DESCRIPTION:Join Campus Ministry for a movie night! In September we will be examining the ethical issues posed by capital punishment. To contextualize our discussion\, we’ll watch Dead Man Walking\, which shares the dramatized life experiences of Sr. Helen Perjean\, CSJ who ministered to an inmate on Death Row.\nSnacks will be provided\, and later in the month we will be facilitating an in-depth conversation on capital punishment and looking at practical ways to advocate\, serve\, and get involved to abolish this practice.
URL:https://www.fontbonne.edu/event/ministry-movie-night-dead-man-walking/
LOCATION:TBD\, 2560 King Arthur Boulevard\, Lewisville\, TX\, 75056\, United States
END:VEVENT
END:VCALENDAR