BEGIN:VCALENDAR
VERSION:2.0
PRODID:-//Fontbonne University - ECPv5.16.4//NONSGML v1.0//EN
CALSCALE:GREGORIAN
METHOD:PUBLISH
X-WR-CALNAME:Fontbonne University
X-ORIGINAL-URL:https://www.fontbonne.edu
X-WR-CALDESC:Events for Fontbonne University
BEGIN:VTIMEZONE
TZID:America/Chicago
BEGIN:DAYLIGHT
TZOFFSETFROM:-0600
TZOFFSETTO:-0500
TZNAME:CDT
DTSTART:20220313T080000
END:DAYLIGHT
BEGIN:STANDARD
TZOFFSETFROM:-0500
TZOFFSETTO:-0600
TZNAME:CST
DTSTART:20221106T070000
END:STANDARD
END:VTIMEZONE
BEGIN:VEVENT
DTSTART;TZID=America/Chicago:20220911T150000
DTEND;TZID=America/Chicago:20220911T183000
DTSTAMP:20260422T035129
CREATED:20220613T002032Z
LAST-MODIFIED:20220911T225015Z
UID:71119-1662908400-1662921000@www.fontbonne.edu
SUMMARY:Disney Leaders Meeting
DESCRIPTION:Members of the Cohort VII team will have their monthly class/meeting at this time.
URL:https://www.fontbonne.edu/event/disney-leaders-meeting/
LOCATION:LACE Center
CATEGORIES:Events & Activities,Featured Events
END:VEVENT
BEGIN:VEVENT
DTSTART;TZID=America/Chicago:20220911T190000
DTEND;TZID=America/Chicago:20220911T200000
DTSTAMP:20260422T035129
CREATED:20220826T013512Z
LAST-MODIFIED:20220912T000508Z
UID:79029-1662922800-1662926400@www.fontbonne.edu
SUMMARY:Ecumenical 9/11 Reflection Service
DESCRIPTION:Join Campus Ministry for an ecumenical reflection commemorating the events of September 11\, 2001. All are welcome to join us for an interfaith reflection on the importance of communal mourning\, memory\, peace\, and forgiveness.
URL:https://www.fontbonne.edu/event/ecumenical-9-11-reflection-service/
LOCATION:AMC/Golden Meadow
END:VEVENT
END:VCALENDAR