BEGIN:VCALENDAR
VERSION:2.0
PRODID:-//Fontbonne University - ECPv5.16.4//NONSGML v1.0//EN
CALSCALE:GREGORIAN
METHOD:PUBLISH
X-WR-CALNAME:Fontbonne University
X-ORIGINAL-URL:https://www.fontbonne.edu
X-WR-CALDESC:Events for Fontbonne University
BEGIN:VTIMEZONE
TZID:America/Chicago
BEGIN:DAYLIGHT
TZOFFSETFROM:-0600
TZOFFSETTO:-0500
TZNAME:CDT
DTSTART:20220313T080000
END:DAYLIGHT
BEGIN:STANDARD
TZOFFSETFROM:-0500
TZOFFSETTO:-0600
TZNAME:CST
DTSTART:20221106T070000
END:STANDARD
END:VTIMEZONE
BEGIN:VEVENT
DTSTART;TZID=America/Chicago:20220916T100000
DTEND;TZID=America/Chicago:20220916T113000
DTSTAMP:20260419T193852
CREATED:20220826T013512Z
LAST-MODIFIED:20220916T162009Z
UID:79032-1663322400-1663327800@www.fontbonne.edu
SUMMARY:Centennial Kick-Off Mass
DESCRIPTION:Celebrate a century of Fontbonne University’s Catholic identity and commitment to service of the dear neighbor with a community liturgy celebrated by the most reverend\, Archbishop of St. Louis\, Mitchell Rozanski. A picnic lunch will immediately follow the liturgy!
URL:https://www.fontbonne.edu/event/centennial-kick-off-mass/
LOCATION:Doerr Chapel and DSAC Cafe
END:VEVENT
BEGIN:VEVENT
DTSTART;TZID=America/Chicago:20220916T111500
DTEND;TZID=America/Chicago:20220916T133000
DTSTAMP:20260419T193852
CREATED:20220906T130513Z
LAST-MODIFIED:20220916T172012Z
UID:80759-1663326900-1663335000@www.fontbonne.edu
SUMMARY:Centennial Celebration and Campus Picnic
DESCRIPTION:Come by the DSAC Gym to celebrate our Centennial Kickoff.  Students can pick up their Centennial Passports\, grab a free t-shirt\, and snap a photo in the photo booth!
URL:https://www.fontbonne.edu/event/centennial-celebration-and-campus-picnic/
LOCATION:DSAC Gym
END:VEVENT
END:VCALENDAR