BEGIN:VCALENDAR
VERSION:2.0
PRODID:-//Fontbonne University - ECPv5.16.4//NONSGML v1.0//EN
CALSCALE:GREGORIAN
METHOD:PUBLISH
X-WR-CALNAME:Fontbonne University
X-ORIGINAL-URL:https://www.fontbonne.edu
X-WR-CALDESC:Events for Fontbonne University
BEGIN:VTIMEZONE
TZID:America/Chicago
BEGIN:DAYLIGHT
TZOFFSETFROM:-0600
TZOFFSETTO:-0500
TZNAME:CDT
DTSTART:20230312T080000
END:DAYLIGHT
BEGIN:STANDARD
TZOFFSETFROM:-0500
TZOFFSETTO:-0600
TZNAME:CST
DTSTART:20231105T070000
END:STANDARD
END:VTIMEZONE
BEGIN:VEVENT
DTSTART;TZID=America/Chicago:20230416T100000
DTEND;TZID=America/Chicago:20230416T140000
DTSTAMP:20260419T232952
CREATED:20230203T172115Z
LAST-MODIFIED:20230416T183506Z
UID:98271-1681639200-1681653600@www.fontbonne.edu
SUMMARY:FISA Six Flags
DESCRIPTION:Transportation provided
URL:https://www.fontbonne.edu/event/fisa-six-flags/
LOCATION:Eureka\, MO\, USA
CATEGORIES:Events & Activities,Featured Events
END:VEVENT
BEGIN:VEVENT
DTSTART;TZID=America/Chicago:20230416T150000
DTEND;TZID=America/Chicago:20230416T183000
DTSTAMP:20260419T232952
CREATED:20230116T003609Z
LAST-MODIFIED:20230416T225011Z
UID:92743-1681657200-1681669800@www.fontbonne.edu
SUMMARY:WING Leaders Meeting
DESCRIPTION:Members of the 2023 WING Leaders team will meet to prepare for the upcoming SOAR and FLY Seasons.
URL:https://www.fontbonne.edu/event/wing-leaders-meeting/
LOCATION:LACE Center
CATEGORIES:Events & Activities,Featured Events
END:VEVENT
BEGIN:VEVENT
DTSTART;TZID=America/Chicago:20230416T190000
DTEND;TZID=America/Chicago:20230416T200000
DTSTAMP:20260419T232952
CREATED:20230310T212049Z
LAST-MODIFIED:20230417T005008Z
UID:107953-1681671600-1681675200@www.fontbonne.edu
SUMMARY:Campus Ministry Mass
DESCRIPTION:Join Campus Ministry for an on campus Mass with Fr. Mike Dooley\, SJ. Mass will be held at 7:00 p.m. in Doerr Chapel.
URL:https://www.fontbonne.edu/event/campus-ministry-mass-31/
LOCATION:Doerr Chapel
CATEGORIES:Campus Ministry,Events & Activities,Featured Events
END:VEVENT
END:VCALENDAR