BEGIN:VCALENDAR
VERSION:2.0
PRODID:-//Fontbonne University - ECPv5.16.4//NONSGML v1.0//EN
CALSCALE:GREGORIAN
METHOD:PUBLISH
X-WR-CALNAME:Fontbonne University
X-ORIGINAL-URL:https://www.fontbonne.edu
X-WR-CALDESC:Events for Fontbonne University
BEGIN:VTIMEZONE
TZID:America/Chicago
BEGIN:DAYLIGHT
TZOFFSETFROM:-0600
TZOFFSETTO:-0500
TZNAME:CDT
DTSTART:20230312T080000
END:DAYLIGHT
BEGIN:STANDARD
TZOFFSETFROM:-0500
TZOFFSETTO:-0600
TZNAME:CST
DTSTART:20231105T070000
END:STANDARD
END:VTIMEZONE
BEGIN:VEVENT
DTSTART;TZID=America/Chicago:20230505T110000
DTEND;TZID=America/Chicago:20230505T133000
DTSTAMP:20260419T221905
CREATED:20230204T005123Z
LAST-MODIFIED:20230328T143538Z
UID:98399-1683284400-1683293400@www.fontbonne.edu
SUMMARY:Griffin Grad Games
DESCRIPTION:Join the Senior Committee for a fun afternoon reliving some of your favorite FLY Fall Orientation experiences!  Contact Roniyah Harris (rharri00870@fontbonne.edu) with questions.
URL:https://www.fontbonne.edu/event/griffin-grad-games/
LOCATION:Golden Meadow/AMC
CATEGORIES:Events & Activities,Featured Events
END:VEVENT
END:VCALENDAR