BEGIN:VCALENDAR
VERSION:2.0
PRODID:-//Fontbonne University - ECPv5.16.4//NONSGML v1.0//EN
CALSCALE:GREGORIAN
METHOD:PUBLISH
X-WR-CALNAME:Fontbonne University
X-ORIGINAL-URL:https://www.fontbonne.edu
X-WR-CALDESC:Events for Fontbonne University
BEGIN:VTIMEZONE
TZID:America/Chicago
BEGIN:DAYLIGHT
TZOFFSETFROM:-0600
TZOFFSETTO:-0500
TZNAME:CDT
DTSTART:20230312T080000
END:DAYLIGHT
BEGIN:STANDARD
TZOFFSETFROM:-0500
TZOFFSETTO:-0600
TZNAME:CST
DTSTART:20231105T070000
END:STANDARD
END:VTIMEZONE
BEGIN:VEVENT
DTSTART;TZID=America/Chicago:20230817T080000
DTEND;TZID=America/Chicago:20230817T110000
DTSTAMP:20260419T174017
CREATED:20230706T232006Z
LAST-MODIFIED:20230817T153516Z
UID:119772-1692259200-1692270000@www.fontbonne.edu
SUMMARY:First-Year Student Move-In
DESCRIPTION:
URL:https://www.fontbonne.edu/event/first-year-student-move-in/
LOCATION:Various Locations
END:VEVENT
BEGIN:VEVENT
DTSTART;TZID=America/Chicago:20230817T110000
DTEND;TZID=America/Chicago:20230817T130000
DTSTAMP:20260419T174017
CREATED:20230706T232006Z
LAST-MODIFIED:20230817T173520Z
UID:119771-1692270000-1692277200@www.fontbonne.edu
SUMMARY:First-Year Student Family Farewell BBQ
DESCRIPTION:
URL:https://www.fontbonne.edu/event/first-year-student-family-farewell-bbq/
END:VEVENT
BEGIN:VEVENT
DTSTART;TZID=America/Chicago:20230817T140000
DTEND;TZID=America/Chicago:20230817T213000
DTSTAMP:20260419T174017
CREATED:20230706T232006Z
LAST-MODIFIED:20230818T012007Z
UID:119773-1692280800-1692307800@www.fontbonne.edu
SUMMARY:FLY Fall Orientation
DESCRIPTION:
URL:https://www.fontbonne.edu/event/fly-fall-orientation-2/
LOCATION:Various Locations
END:VEVENT
END:VCALENDAR