BEGIN:VCALENDAR
VERSION:2.0
PRODID:-//Fontbonne University - ECPv5.16.4//NONSGML v1.0//EN
CALSCALE:GREGORIAN
METHOD:PUBLISH
X-WR-CALNAME:Fontbonne University
X-ORIGINAL-URL:https://www.fontbonne.edu
X-WR-CALDESC:Events for Fontbonne University
BEGIN:VTIMEZONE
TZID:America/Chicago
BEGIN:DAYLIGHT
TZOFFSETFROM:-0600
TZOFFSETTO:-0500
TZNAME:CDT
DTSTART:20230312T080000
END:DAYLIGHT
BEGIN:STANDARD
TZOFFSETFROM:-0500
TZOFFSETTO:-0600
TZNAME:CST
DTSTART:20231105T070000
END:STANDARD
END:VTIMEZONE
BEGIN:VEVENT
DTSTART;TZID=America/Chicago:20230924T130000
DTEND;TZID=America/Chicago:20230924T170000
DTSTAMP:20260419T161756
CREATED:20230829T160536Z
LAST-MODIFIED:20230924T212010Z
UID:127816-1695560400-1695574800@www.fontbonne.edu
SUMMARY:ALAS Goes to the Hispanic Festival
DESCRIPTION:Join ALAS as they go to the Hispanic Festival – transportation provided
URL:https://www.fontbonne.edu/event/alas-goes-to-the-hispanic-festival/
END:VEVENT
END:VCALENDAR