BEGIN:VCALENDAR
VERSION:2.0
PRODID:-//Fontbonne University - ECPv5.16.4//NONSGML v1.0//EN
CALSCALE:GREGORIAN
METHOD:PUBLISH
X-WR-CALNAME:Fontbonne University
X-ORIGINAL-URL:https://www.fontbonne.edu
X-WR-CALDESC:Events for Fontbonne University
BEGIN:VTIMEZONE
TZID:America/Chicago
BEGIN:DAYLIGHT
TZOFFSETFROM:-0600
TZOFFSETTO:-0500
TZNAME:CDT
DTSTART:20230312T080000
END:DAYLIGHT
BEGIN:STANDARD
TZOFFSETFROM:-0500
TZOFFSETTO:-0600
TZNAME:CST
DTSTART:20231105T070000
END:STANDARD
END:VTIMEZONE
BEGIN:VEVENT
DTSTART;VALUE=DATE:20231002
DTEND;VALUE=DATE:20231007
DTSTAMP:20260419T143158
CREATED:20230724T210559Z
LAST-MODIFIED:20231006T230507Z
UID:120883-1696204800-1696636799@www.fontbonne.edu
SUMMARY:BSU Spirit Week
DESCRIPTION:
URL:https://www.fontbonne.edu/event/bsu-spirit-week/
END:VEVENT
BEGIN:VEVENT
DTSTART;TZID=America/Chicago:20231002T073000
DTEND;TZID=America/Chicago:20231002T223000
DTSTAMP:20260419T143158
CREATED:20230704T003528Z
LAST-MODIFIED:20231003T023531Z
UID:119581-1696231800-1696285800@www.fontbonne.edu
SUMMARY:Child Health Day '23
DESCRIPTION:Join GriffinTHON in raising funds and awareness for Children’s Miracle Network Hospitals throughout the entire day!
URL:https://www.fontbonne.edu/event/child-health-day-23/
LOCATION:Arnold Memorial Center
END:VEVENT
BEGIN:VEVENT
DTSTART;TZID=America/Chicago:20231002T153000
DTEND;TZID=America/Chicago:20231002T163000
DTSTAMP:20260419T143158
CREATED:20230829T160536Z
LAST-MODIFIED:20231002T203509Z
UID:127821-1696260600-1696264200@www.fontbonne.edu
SUMMARY:ALAS General Board Meeting
DESCRIPTION:
URL:https://www.fontbonne.edu/event/alas-general-board-meeting-6/
LOCATION:International Lounge
END:VEVENT
END:VCALENDAR