BEGIN:VCALENDAR
VERSION:2.0
PRODID:-//Fontbonne University - ECPv5.16.4//NONSGML v1.0//EN
CALSCALE:GREGORIAN
METHOD:PUBLISH
X-WR-CALNAME:Fontbonne University
X-ORIGINAL-URL:https://www.fontbonne.edu
X-WR-CALDESC:Events for Fontbonne University
BEGIN:VTIMEZONE
TZID:America/Chicago
BEGIN:DAYLIGHT
TZOFFSETFROM:-0600
TZOFFSETTO:-0500
TZNAME:CDT
DTSTART:20230312T080000
END:DAYLIGHT
BEGIN:STANDARD
TZOFFSETFROM:-0500
TZOFFSETTO:-0600
TZNAME:CST
DTSTART:20231105T070000
END:STANDARD
END:VTIMEZONE
BEGIN:VEVENT
DTSTART;TZID=America/Chicago:20231020T093000
DTEND;TZID=America/Chicago:20231020T153000
DTSTAMP:20260419T143405
CREATED:20231013T180511Z
LAST-MODIFIED:20231020T185010Z
UID:133017-1697794200-1697815800@www.fontbonne.edu
SUMMARY:Fan The Flame Retreat
DESCRIPTION:Join Service & Spirituality for our annual Fan The Flame Retreat.  Contact Dyllan Haggard – dhaggard@fontbonne.edu – with questions.
URL:https://www.fontbonne.edu/event/fan-the-flame-retreat-2/
LOCATION:LACE Center
END:VEVENT
BEGIN:VEVENT
DTSTART;TZID=America/Chicago:20231020T150000
DTEND;TZID=America/Chicago:20231020T160000
DTSTAMP:20260419T143405
CREATED:20230901T155054Z
LAST-MODIFIED:20231020T205011Z
UID:128373-1697814000-1697817600@www.fontbonne.edu
SUMMARY:Young Brothers United
DESCRIPTION:Helping men of color build community at Fontbonne University
URL:https://www.fontbonne.edu/event/young-brothers-united-2/
LOCATION:LACE Center
END:VEVENT
BEGIN:VEVENT
DTSTART;TZID=America/Chicago:20231020T190000
DTEND;TZID=America/Chicago:20231020T220000
DTSTAMP:20260419T143405
CREATED:20230716T003533Z
LAST-MODIFIED:20231021T020507Z
UID:120325-1697828400-1697839200@www.fontbonne.edu
SUMMARY:Omicron Delta Kappa Alumni Night
DESCRIPTION:Join Omicron Delta Kappa members\, current students and alumni\, to connect and mingle over great appetizers!
URL:https://www.fontbonne.edu/event/omicron-delta-kappa-alumni-night/
LOCATION:Mike Duffy’s Pub & Grill Richmond Heights\, 6662 Clayton Rd\, St. Louis\, MO 63117\, USA
END:VEVENT
END:VCALENDAR