BEGIN:VCALENDAR
VERSION:2.0
PRODID:-//Fontbonne University - ECPv5.16.4//NONSGML v1.0//EN
CALSCALE:GREGORIAN
METHOD:PUBLISH
X-WR-CALNAME:Fontbonne University
X-ORIGINAL-URL:https://www.fontbonne.edu
X-WR-CALDESC:Events for Fontbonne University
BEGIN:VTIMEZONE
TZID:America/Chicago
BEGIN:DAYLIGHT
TZOFFSETFROM:-0600
TZOFFSETTO:-0500
TZNAME:CDT
DTSTART:20230312T080000
END:DAYLIGHT
BEGIN:STANDARD
TZOFFSETFROM:-0500
TZOFFSETTO:-0600
TZNAME:CST
DTSTART:20231105T070000
END:STANDARD
END:VTIMEZONE
BEGIN:VEVENT
DTSTART;TZID=America/Chicago:20231022T150000
DTEND;TZID=America/Chicago:20231022T183000
DTSTAMP:20260419T144258
CREATED:20230724T003548Z
LAST-MODIFIED:20231022T225010Z
UID:120815-1697986800-1697999400@www.fontbonne.edu
SUMMARY:Disney Leader Meeting
DESCRIPTION:Join our Disney Leaders in developing their leadership skills as they prepare for their trip to Disney World in December!
URL:https://www.fontbonne.edu/event/disney-leader-meeting/
LOCATION:LACE Center
END:VEVENT
END:VCALENDAR