BEGIN:VCALENDAR
VERSION:2.0
PRODID:-//Fontbonne University - ECPv5.16.4//NONSGML v1.0//EN
CALSCALE:GREGORIAN
METHOD:PUBLISH
X-WR-CALNAME:Fontbonne University
X-ORIGINAL-URL:https://www.fontbonne.edu
X-WR-CALDESC:Events for Fontbonne University
BEGIN:VTIMEZONE
TZID:America/Chicago
BEGIN:DAYLIGHT
TZOFFSETFROM:-0600
TZOFFSETTO:-0500
TZNAME:CDT
DTSTART:20230312T080000
END:DAYLIGHT
BEGIN:STANDARD
TZOFFSETFROM:-0500
TZOFFSETTO:-0600
TZNAME:CST
DTSTART:20231105T070000
END:STANDARD
END:VTIMEZONE
BEGIN:VEVENT
DTSTART;TZID=America/Chicago:20231027T180000
DTEND;TZID=America/Chicago:20231027T210000
DTSTAMP:20260419T161556
CREATED:20230730T000617Z
LAST-MODIFIED:20231028T015013Z
UID:121841-1698429600-1698440400@www.fontbonne.edu
SUMMARY:Lemp Brewery Haunted Mansion Trip w/ BSU\, UP & FISA
DESCRIPTION:More details to come – be on the lookout for sign-ups.
URL:https://www.fontbonne.edu/event/fontbonne-university-programming-haunted-tunnel/
LOCATION:Arnold Memorial Center
END:VEVENT
END:VCALENDAR