BEGIN:VCALENDAR
VERSION:2.0
PRODID:-//Fontbonne University - ECPv5.16.4//NONSGML v1.0//EN
CALSCALE:GREGORIAN
METHOD:PUBLISH
X-WR-CALNAME:Fontbonne University
X-ORIGINAL-URL:https://www.fontbonne.edu
X-WR-CALDESC:Events for Fontbonne University
BEGIN:VTIMEZONE
TZID:America/Chicago
BEGIN:DAYLIGHT
TZOFFSETFROM:-0600
TZOFFSETTO:-0500
TZNAME:CDT
DTSTART:20240310T080000
END:DAYLIGHT
BEGIN:STANDARD
TZOFFSETFROM:-0500
TZOFFSETTO:-0600
TZNAME:CST
DTSTART:20241103T070000
END:STANDARD
END:VTIMEZONE
BEGIN:VEVENT
DTSTART;VALUE=DATE:20240301
DTEND;VALUE=DATE:20240316
DTSTAMP:20260419T064833
CREATED:20240131T182036Z
LAST-MODIFIED:20240315T232023Z
UID:140157-1709251200-1710547199@www.fontbonne.edu
SUMMARY:SAGA Donation Drive
DESCRIPTION:SAGA will be collecting basic necessities to donate to local LGBTQIA+ initiative. Reach out to Dustin Davis (ddavis03975@fontbonne.edu) for additional information.
URL:https://www.fontbonne.edu/event/saga-donation-drive/
LOCATION:LACE Center
END:VEVENT
BEGIN:VEVENT
DTSTART;TZID=America/Chicago:20240312T093000
DTEND;TZID=America/Chicago:20240312T163000
DTSTAMP:20260419T064833
CREATED:20240229T150509Z
LAST-MODIFIED:20240312T210522Z
UID:141952-1710235800-1710261000@www.fontbonne.edu
SUMMARY:CSJ Appreciation Week - Maxim Decorating and T-Shirt Giveaway
DESCRIPTION:The Office of Service & Spirituality invites you to celebrate our Sisters of St. Joseph by decorating a Maxim and picking up a free t-shirt!  Come by the AMC between 9:30AM-4:30PM to decorate a Maxim of your choosing.  One decorated Maxim will be chosen to receive a Gift Card Prize!  Be sure to come by before the t-shirts are gone – supplies will be limited!
URL:https://www.fontbonne.edu/event/csj-appreciation-week-maxim-decorating-and-t-shirt-giveaway/
LOCATION:Arnold Memorial Center
END:VEVENT
BEGIN:VEVENT
DTSTART;TZID=America/Chicago:20240312T100000
DTEND;TZID=America/Chicago:20240312T220000
DTSTAMP:20260419T064833
CREATED:20240308T183522Z
LAST-MODIFIED:20240313T020511Z
UID:142445-1710237600-1710280800@www.fontbonne.edu
SUMMARY:GriffinTHON's Raising Canes Fundraiser
DESCRIPTION:Please consider visiting the Raising Canes Brentwood location to support GriffinTHON.  15% of the proceeds will benefit their quest to provide for Children’s Miracle Network Hospitals.  Simply tell the cashier you’re there to support the “Fore The Kids” Fundraiser.
URL:https://www.fontbonne.edu/event/griffinthons-raising-canes-fundraiser/
LOCATION:Raising Canes – Big Bend Blvd. Location (Brentwood)
END:VEVENT
BEGIN:VEVENT
DTSTART;TZID=America/Chicago:20240312T130000
DTEND;TZID=America/Chicago:20240312T150000
DTSTAMP:20260419T064833
CREATED:20240311T163732Z
LAST-MODIFIED:20240311T163957Z
UID:142623-1710248400-1710255600@www.fontbonne.edu
SUMMARY:Prayer Service
DESCRIPTION:
URL:https://www.fontbonne.edu/event/prayer-service/
LOCATION:Doerr Chapel
CATEGORIES:2025 Announcement
END:VEVENT
END:VCALENDAR