BEGIN:VCALENDAR
VERSION:2.0
PRODID:-//Fontbonne University - ECPv5.16.4//NONSGML v1.0//EN
CALSCALE:GREGORIAN
METHOD:PUBLISH
X-WR-CALNAME:Fontbonne University
X-ORIGINAL-URL:https://www.fontbonne.edu
X-WR-CALDESC:Events for Fontbonne University
BEGIN:VTIMEZONE
TZID:America/Chicago
BEGIN:DAYLIGHT
TZOFFSETFROM:-0600
TZOFFSETTO:-0500
TZNAME:CDT
DTSTART:20240310T080000
END:DAYLIGHT
BEGIN:STANDARD
TZOFFSETFROM:-0500
TZOFFSETTO:-0600
TZNAME:CST
DTSTART:20241103T070000
END:STANDARD
END:VTIMEZONE
BEGIN:VEVENT
DTSTART;TZID=America/Chicago:20240316T090000
DTEND;TZID=America/Chicago:20240316T120000
DTSTAMP:20260419T070014
CREATED:20240219T173505Z
LAST-MODIFIED:20240219T205110Z
UID:141341-1710579600-1710590400@www.fontbonne.edu
SUMMARY:Open House Events
DESCRIPTION:Calling all Future Griffins! Join us on the Fontbonne University campus to learn the latest on academics\, financial aid\, campus life\, housing and so much more. Register below to save your spot. \nFontbonne University\n6800 Wydown Blvd\nSaint Louis\, MO 63105\nUnited States \nRegister here
URL:https://www.fontbonne.edu/event/open-house-events/
CATEGORIES:Admission Events
END:VEVENT
END:VCALENDAR