BEGIN:VCALENDAR
VERSION:2.0
PRODID:-//Fontbonne University - ECPv5.16.4//NONSGML v1.0//EN
CALSCALE:GREGORIAN
METHOD:PUBLISH
X-WR-CALNAME:Fontbonne University
X-ORIGINAL-URL:https://www.fontbonne.edu
X-WR-CALDESC:Events for Fontbonne University
BEGIN:VTIMEZONE
TZID:America/Chicago
BEGIN:DAYLIGHT
TZOFFSETFROM:-0600
TZOFFSETTO:-0500
TZNAME:CDT
DTSTART:20240310T080000
END:DAYLIGHT
BEGIN:STANDARD
TZOFFSETFROM:-0500
TZOFFSETTO:-0600
TZNAME:CST
DTSTART:20241103T070000
END:STANDARD
END:VTIMEZONE
BEGIN:VEVENT
DTSTART;TZID=America/Chicago:20240419T170000
DTEND;TZID=America/Chicago:20240419T210000
DTSTAMP:20260419T081905
CREATED:20240124T200546Z
LAST-MODIFIED:20240420T013506Z
UID:139730-1713546000-1713560400@www.fontbonne.edu
SUMMARY:Grit & Wit Challenge
DESCRIPTION:Check out Black Student Union and Omicron Delta Kappa socials!
URL:https://www.fontbonne.edu/event/all-star-tournament/
LOCATION:Golden Meadow
END:VEVENT
END:VCALENDAR