BEGIN:VCALENDAR
VERSION:2.0
PRODID:-//Fontbonne University - ECPv5.16.4//NONSGML v1.0//EN
CALSCALE:GREGORIAN
METHOD:PUBLISH
X-WR-CALNAME:Fontbonne University
X-ORIGINAL-URL:https://www.fontbonne.edu
X-WR-CALDESC:Events for Fontbonne University
BEGIN:VTIMEZONE
TZID:America/Chicago
BEGIN:DAYLIGHT
TZOFFSETFROM:-0600
TZOFFSETTO:-0500
TZNAME:CDT
DTSTART:20240310T080000
END:DAYLIGHT
BEGIN:STANDARD
TZOFFSETFROM:-0500
TZOFFSETTO:-0600
TZNAME:CST
DTSTART:20241103T070000
END:STANDARD
END:VTIMEZONE
BEGIN:VEVENT
DTSTART;TZID=America/Chicago:20240904T100000
DTEND;TZID=America/Chicago:20240904T123000
DTSTAMP:20260420T032652
CREATED:20240828T013511Z
LAST-MODIFIED:20240904T163507Z
UID:152893-1725444000-1725453000@www.fontbonne.edu
SUMMARY:Academic Convocation\, Mass of the Holy Spirit and Campus Community Picnic
DESCRIPTION:Join us for our annual Academic Convocation event ft. Dr. Susan Lenihan.  Immediately following\, stay for our Mass of the Holy Spirit.  Then enjoy a picnic in Ryan Dining Hall.
URL:https://www.fontbonne.edu/event/academic-convocation-mass-of-the-holy-spirit-and-campus-community-picnic/
LOCATION:Doerr Chapel & Ryan Dining Hall
END:VEVENT
BEGIN:VEVENT
DTSTART;TZID=America/Chicago:20240904T170000
DTEND;TZID=America/Chicago:20240904T170000
DTSTAMP:20260420T032652
CREATED:20240606T005039Z
LAST-MODIFIED:20240904T215048Z
UID:147938-1725469200-1725469200@www.fontbonne.edu
SUMMARY:Omicron Delta Kappa Fall Applications Due
DESCRIPTION:Students looking to join one of the last two legacy cohorts of the Fontbonne University Omicron Delta Kappa Circle must apply by 5PM today!
URL:https://www.fontbonne.edu/event/omicron-delta-kappa-fall-applications-due/
LOCATION:Check Fontbonne E-Mail for Eligibility Link
END:VEVENT
BEGIN:VEVENT
DTSTART;TZID=America/Chicago:20240904T193000
DTEND;TZID=America/Chicago:20240904T213000
DTSTAMP:20260420T032652
CREATED:20240724T142020Z
LAST-MODIFIED:20240905T020509Z
UID:150845-1725478200-1725485400@www.fontbonne.edu
SUMMARY:Men's Soccer vs. Hannibal-LaGrange
DESCRIPTION:Fontbonne vs. Hannibal-LaGrange at Home
URL:https://www.fontbonne.edu/event/mens-soccer-vs-hannibal-lagrange/
LOCATION:Gay Field\, 305 Gay Ave\, Saint Louis\, MO\, United States
END:VEVENT
END:VCALENDAR