BEGIN:VCALENDAR
VERSION:2.0
PRODID:-//Fontbonne University - ECPv5.16.4//NONSGML v1.0//EN
CALSCALE:GREGORIAN
METHOD:PUBLISH
X-WR-CALNAME:Fontbonne University
X-ORIGINAL-URL:https://www.fontbonne.edu
X-WR-CALDESC:Events for Fontbonne University
BEGIN:VTIMEZONE
TZID:America/Chicago
BEGIN:DAYLIGHT
TZOFFSETFROM:-0600
TZOFFSETTO:-0500
TZNAME:CDT
DTSTART:20240310T080000
END:DAYLIGHT
BEGIN:STANDARD
TZOFFSETFROM:-0500
TZOFFSETTO:-0600
TZNAME:CST
DTSTART:20241103T070000
END:STANDARD
END:VTIMEZONE
BEGIN:VEVENT
DTSTART;VALUE=DATE:20241028
DTEND;VALUE=DATE:20241101
DTSTAMP:20260420T003351
CREATED:20240730T025100Z
LAST-MODIFIED:20241031T233505Z
UID:151243-1730073600-1730419199@www.fontbonne.edu
SUMMARY:Week of Haunt
DESCRIPTION:
URL:https://www.fontbonne.edu/event/week-of-haunt/
END:VEVENT
BEGIN:VEVENT
DTSTART;TZID=America/Chicago:20241030T173000
DTEND;TZID=America/Chicago:20241030T200000
DTSTAMP:20260420T003351
CREATED:20240929T012013Z
LAST-MODIFIED:20241031T003526Z
UID:154707-1730309400-1730318400@www.fontbonne.edu
SUMMARY:BSU Week of Haunt: The Darkness Haunted House Trip
DESCRIPTION:Students can pre-register for tickets to The Darkness – a local haunted house.  Space is limited!
URL:https://www.fontbonne.edu/event/bsu-week-of-haunt-the-darkness-haunted-house-trip/
LOCATION:Meet in the AMC
END:VEVENT
BEGIN:VEVENT
DTSTART;TZID=America/Chicago:20241030T190000
DTEND;TZID=America/Chicago:20241030T210000
DTSTAMP:20260420T003351
CREATED:20240802T083546Z
LAST-MODIFIED:20241031T015116Z
UID:151431-1730314800-1730322000@www.fontbonne.edu
SUMMARY:Women's Volleyball vs. Greenville
DESCRIPTION:Fontbonne vs. Greenville at Home
URL:https://www.fontbonne.edu/event/womens-volleyball-vs-greenville/
LOCATION:Mabee Gymnasium
END:VEVENT
END:VCALENDAR