BEGIN:VCALENDAR
VERSION:2.0
PRODID:-//Fontbonne University - ECPv5.16.4//NONSGML v1.0//EN
CALSCALE:GREGORIAN
METHOD:PUBLISH
X-WR-CALNAME:Fontbonne University
X-ORIGINAL-URL:https://www.fontbonne.edu
X-WR-CALDESC:Events for Fontbonne University
BEGIN:VTIMEZONE
TZID:America/Chicago
BEGIN:DAYLIGHT
TZOFFSETFROM:-0600
TZOFFSETTO:-0500
TZNAME:CDT
DTSTART:20240310T080000
END:DAYLIGHT
BEGIN:STANDARD
TZOFFSETFROM:-0500
TZOFFSETTO:-0600
TZNAME:CST
DTSTART:20241103T070000
END:STANDARD
END:VTIMEZONE
BEGIN:VEVENT
DTSTART;TZID=America/Chicago:20241121T110000
DTEND;TZID=America/Chicago:20241121T133000
DTSTAMP:20260420T003351
CREATED:20240824T155103Z
LAST-MODIFIED:20241121T190648Z
UID:152698-1732186800-1732195800@www.fontbonne.edu
SUMMARY:Fonty Thanksgiving Luncheon
DESCRIPTION:Join us for our annual Thanksgiving feast.  Please consider bringing non-perishable food items for donation to the Griffin Market!
URL:https://www.fontbonne.edu/event/fonty-thanksgiving-luncheon/
LOCATION:Ryan Dining Hall
END:VEVENT
END:VCALENDAR